BEGIN:VCALENDAR
PRODID:VBC//Seminars
VERSION:2.0
BEGIN:VTIMEZONE
TZID:Central Europe Standard Time
BEGIN:STANDARD
DTSTART:20111002T030000
RRULE:FREQ=YEARLY;BYDAY=-1SU;BYHOUR=3;BYMINUTE=0;BYMONTH=10
TZNAME:Central Europe Standard Time
TZOFFSETFROM:+0200
TZOFFSETTO:+0100
END:STANDARD
BEGIN:DAYLIGHT
DTSTART:20110301T020000
RRULE:FREQ=YEARLY;BYDAY=-1SU;BYHOUR=2;BYMINUTE=0;BYMONTH=3
TZNAME:Central Europe Daylight Time
TZOFFSETFROM:+0100
TZOFFSETTO:+0200
END:DAYLIGHT
END:VTIMEZONE
BEGIN:VEVENT
UID:vbc-seminar-3649
SEQUENCE:1776823235
DTSTAMP:20260422T020035
DTSTART;TZID=Central Europe Standard Time:20200528T140000
DTEND;TZID=Central Europe Standard Time:20200528T150000
SUMMARY:Florian Schur (IST Austria) Seminar Series on Modern Concepts in
 Structural Biology
DESCRIPTION:From Viruses to Cells – Toward high-resolution cellular
 structural biology using cryo-electron tomography - hosted
 by Kristina Djinovic-Carugo
LOCATION:Zoom
BEGIN:VALARM
TRIGGER:-PT15M
ACTION:DISPLAY
DESCRIPTION:Reminder From Viruses to Cells – Toward high-resolution
 cellular structural biology using cryo-electron tomography
 - hosted by Kristina Djinovic-Carugo
END:VALARM
END:VEVENT
END:VCALENDAR