BEGIN:VCALENDAR
PRODID:VBC//Seminars
VERSION:2.0
BEGIN:VTIMEZONE
TZID:Central Europe Standard Time
BEGIN:STANDARD
DTSTART:20111002T030000
RRULE:FREQ=YEARLY;BYDAY=-1SU;BYHOUR=3;BYMINUTE=0;BYMONTH=10
TZNAME:Central Europe Standard Time
TZOFFSETFROM:+0200
TZOFFSETTO:+0100
END:STANDARD
BEGIN:DAYLIGHT
DTSTART:20110301T020000
RRULE:FREQ=YEARLY;BYDAY=-1SU;BYHOUR=2;BYMINUTE=0;BYMONTH=3
TZNAME:Central Europe Daylight Time
TZOFFSETFROM:+0100
TZOFFSETTO:+0200
END:DAYLIGHT
END:VTIMEZONE
BEGIN:VEVENT
UID:vbc-seminar-3477
SEQUENCE:1776636881
DTSTAMP:20260419T221441
DTSTART;TZID=Central Europe Standard Time:20190916T143000
DTEND;TZID=Central Europe Standard Time:20190916T153000
SUMMARY:Erich Wanker (Charite University Medicine Berlin) Interview
 Seminar
DESCRIPTION:Digging at the root of disease: Mutated proteins in
 neurodegeneration and interactomics research - hosted by
 Max Perutz Labs
LOCATION:IMBA/GMI Lecture Hall
BEGIN:VALARM
TRIGGER:-PT15M
ACTION:DISPLAY
DESCRIPTION:Reminder Digging at the root of disease: Mutated proteins in
 neurodegeneration and interactomics research - hosted by
 Max Perutz Labs
END:VALARM
END:VEVENT
END:VCALENDAR