BEGIN:VCALENDAR
PRODID:VBC//Seminars
VERSION:2.0
BEGIN:VTIMEZONE
TZID:Central Europe Standard Time
BEGIN:STANDARD
DTSTART:20111002T030000
RRULE:FREQ=YEARLY;BYDAY=-1SU;BYHOUR=3;BYMINUTE=0;BYMONTH=10
TZNAME:Central Europe Standard Time
TZOFFSETFROM:+0200
TZOFFSETTO:+0100
END:STANDARD
BEGIN:DAYLIGHT
DTSTART:20110301T020000
RRULE:FREQ=YEARLY;BYDAY=-1SU;BYHOUR=2;BYMINUTE=0;BYMONTH=3
TZNAME:Central Europe Daylight Time
TZOFFSETFROM:+0100
TZOFFSETTO:+0200
END:DAYLIGHT
END:VTIMEZONE
BEGIN:VEVENT
UID:vbc-seminar-3464
SEQUENCE:1777002628
DTSTAMP:20260424T035028
DTSTART;TZID=Central Europe Standard Time:20190925T110000
DTEND;TZID=Central Europe Standard Time:20190925T120000
SUMMARY:Maya Voichek (Weizmann Institute) Impromptu Seminar
DESCRIPTION:Chatty microbes - Discovery of communication systems in soil
 bacteria - hosted by Julius Brennecke and Daniel Gerlich
LOCATION:GMI Orange Seminar room
BEGIN:VALARM
TRIGGER:-PT15M
ACTION:DISPLAY
DESCRIPTION:Reminder Chatty microbes - Discovery of communication
 systems in soil bacteria - hosted by Julius Brennecke and
 Daniel Gerlich
END:VALARM
END:VEVENT
END:VCALENDAR