BEGIN:VCALENDAR
PRODID:VBC//Seminars
VERSION:2.0
BEGIN:VTIMEZONE
TZID:Central Europe Standard Time
BEGIN:STANDARD
DTSTART:20111002T030000
RRULE:FREQ=YEARLY;BYDAY=-1SU;BYHOUR=3;BYMINUTE=0;BYMONTH=10
TZNAME:Central Europe Standard Time
TZOFFSETFROM:+0200
TZOFFSETTO:+0100
END:STANDARD
BEGIN:DAYLIGHT
DTSTART:20110301T020000
RRULE:FREQ=YEARLY;BYDAY=-1SU;BYHOUR=2;BYMINUTE=0;BYMONTH=3
TZNAME:Central Europe Daylight Time
TZOFFSETFROM:+0100
TZOFFSETTO:+0200
END:DAYLIGHT
END:VTIMEZONE
BEGIN:VEVENT
UID:vbc-seminar-3411
SEQUENCE:1776839327
DTSTAMP:20260422T062847
DTSTART;TZID=Central Europe Standard Time:20190904T140000
DTEND;TZID=Central Europe Standard Time:20190904T150000
SUMMARY:Richard Holland  (Bangor University) Impromptu Seminar
DESCRIPTION:Orientation and navigation in bats: Magnetic\, celestial or
 something else? - hosted by David Keays
LOCATION:IMP Seminar Room 5.058
BEGIN:VALARM
TRIGGER:-PT15M
ACTION:DISPLAY
DESCRIPTION:Reminder Orientation and navigation in bats: Magnetic\,
 celestial or something else? - hosted by David Keays
END:VALARM
END:VEVENT
END:VCALENDAR